BEGIN:VCALENDAR
VERSION:2.0
PRODID:-//Time for Tipperary - ECPv6.15.18//NONSGML v1.0//EN
CALSCALE:GREGORIAN
METHOD:PUBLISH
X-WR-CALNAME:Time for Tipperary
X-ORIGINAL-URL:https://tipperary.com
X-WR-CALDESC:Events for Time for Tipperary
REFRESH-INTERVAL;VALUE=DURATION:PT1H
X-Robots-Tag:noindex
X-PUBLISHED-TTL:PT1H
BEGIN:VTIMEZONE
TZID:UTC
BEGIN:STANDARD
TZOFFSETFROM:+0000
TZOFFSETTO:+0000
TZNAME:UTC
DTSTART:20250101T000000
END:STANDARD
END:VTIMEZONE
BEGIN:VEVENT
DTSTART;TZID=UTC:20260422T080000
DTEND;TZID=UTC:20260422T170000
DTSTAMP:20260417T173445
CREATED:20260413T140818Z
LAST-MODIFIED:20260413T140818Z
UID:10001014-1776844800-1776877200@tipperary.com
SUMMARY:Set Dancing Classes in Clerihan
DESCRIPTION:Set Dancing Classes\, will take place very Wednesday at 7:15 pm\, in Clerihan Community Hall. It is €10 per class. Turn up on the night\, no experience necessary!
URL:https://tipperary.com/event/set-dancing-classes-in-clerihan/2026-04-22/
ATTACH;FMTTYPE=image/jpeg:https://tipperary.com/wp-content/uploads/2026/04/a4267b564eb34f5432c7b93a6b162fcd-1.jpg
END:VEVENT
BEGIN:VEVENT
DTSTART;TZID=UTC:20260429T080000
DTEND;TZID=UTC:20260429T170000
DTSTAMP:20260417T173445
CREATED:20260413T140818Z
LAST-MODIFIED:20260413T140818Z
UID:10001015-1777449600-1777482000@tipperary.com
SUMMARY:Set Dancing Classes in Clerihan
DESCRIPTION:Set Dancing Classes\, will take place very Wednesday at 7:15 pm\, in Clerihan Community Hall. It is €10 per class. Turn up on the night\, no experience necessary!
URL:https://tipperary.com/event/set-dancing-classes-in-clerihan/2026-04-29/
ATTACH;FMTTYPE=image/jpeg:https://tipperary.com/wp-content/uploads/2026/04/a4267b564eb34f5432c7b93a6b162fcd-1.jpg
END:VEVENT
BEGIN:VEVENT
DTSTART;TZID=UTC:20260506T080000
DTEND;TZID=UTC:20260506T170000
DTSTAMP:20260417T173445
CREATED:20260413T140818Z
LAST-MODIFIED:20260413T140818Z
UID:10001016-1778054400-1778086800@tipperary.com
SUMMARY:Set Dancing Classes in Clerihan
DESCRIPTION:Set Dancing Classes\, will take place very Wednesday at 7:15 pm\, in Clerihan Community Hall. It is €10 per class. Turn up on the night\, no experience necessary!
URL:https://tipperary.com/event/set-dancing-classes-in-clerihan/2026-05-06/
ATTACH;FMTTYPE=image/jpeg:https://tipperary.com/wp-content/uploads/2026/04/a4267b564eb34f5432c7b93a6b162fcd-1.jpg
END:VEVENT
BEGIN:VEVENT
DTSTART;TZID=UTC:20260513T080000
DTEND;TZID=UTC:20260513T170000
DTSTAMP:20260417T173445
CREATED:20260413T140818Z
LAST-MODIFIED:20260413T140818Z
UID:10001017-1778659200-1778691600@tipperary.com
SUMMARY:Set Dancing Classes in Clerihan
DESCRIPTION:Set Dancing Classes\, will take place very Wednesday at 7:15 pm\, in Clerihan Community Hall. It is €10 per class. Turn up on the night\, no experience necessary!
URL:https://tipperary.com/event/set-dancing-classes-in-clerihan/2026-05-13/
ATTACH;FMTTYPE=image/jpeg:https://tipperary.com/wp-content/uploads/2026/04/a4267b564eb34f5432c7b93a6b162fcd-1.jpg
END:VEVENT
BEGIN:VEVENT
DTSTART;TZID=UTC:20260520T080000
DTEND;TZID=UTC:20260520T170000
DTSTAMP:20260417T173445
CREATED:20260413T140818Z
LAST-MODIFIED:20260413T140818Z
UID:10001018-1779264000-1779296400@tipperary.com
SUMMARY:Set Dancing Classes in Clerihan
DESCRIPTION:Set Dancing Classes\, will take place very Wednesday at 7:15 pm\, in Clerihan Community Hall. It is €10 per class. Turn up on the night\, no experience necessary!
URL:https://tipperary.com/event/set-dancing-classes-in-clerihan/2026-05-20/
ATTACH;FMTTYPE=image/jpeg:https://tipperary.com/wp-content/uploads/2026/04/a4267b564eb34f5432c7b93a6b162fcd-1.jpg
END:VEVENT
BEGIN:VEVENT
DTSTART;TZID=UTC:20260527T080000
DTEND;TZID=UTC:20260527T170000
DTSTAMP:20260417T173445
CREATED:20260413T140818Z
LAST-MODIFIED:20260413T140818Z
UID:10001019-1779868800-1779901200@tipperary.com
SUMMARY:Set Dancing Classes in Clerihan
DESCRIPTION:Set Dancing Classes\, will take place very Wednesday at 7:15 pm\, in Clerihan Community Hall. It is €10 per class. Turn up on the night\, no experience necessary!
URL:https://tipperary.com/event/set-dancing-classes-in-clerihan/2026-05-27/
ATTACH;FMTTYPE=image/jpeg:https://tipperary.com/wp-content/uploads/2026/04/a4267b564eb34f5432c7b93a6b162fcd-1.jpg
END:VEVENT
BEGIN:VEVENT
DTSTART;TZID=UTC:20260603T080000
DTEND;TZID=UTC:20260603T170000
DTSTAMP:20260417T173445
CREATED:20260413T140818Z
LAST-MODIFIED:20260413T140818Z
UID:10001020-1780473600-1780506000@tipperary.com
SUMMARY:Set Dancing Classes in Clerihan
DESCRIPTION:Set Dancing Classes\, will take place very Wednesday at 7:15 pm\, in Clerihan Community Hall. It is €10 per class. Turn up on the night\, no experience necessary!
URL:https://tipperary.com/event/set-dancing-classes-in-clerihan/2026-06-03/
ATTACH;FMTTYPE=image/jpeg:https://tipperary.com/wp-content/uploads/2026/04/a4267b564eb34f5432c7b93a6b162fcd-1.jpg
END:VEVENT
BEGIN:VEVENT
DTSTART;TZID=UTC:20260610T080000
DTEND;TZID=UTC:20260610T170000
DTSTAMP:20260417T173445
CREATED:20260413T140818Z
LAST-MODIFIED:20260413T140818Z
UID:10001021-1781078400-1781110800@tipperary.com
SUMMARY:Set Dancing Classes in Clerihan
DESCRIPTION:Set Dancing Classes\, will take place very Wednesday at 7:15 pm\, in Clerihan Community Hall. It is €10 per class. Turn up on the night\, no experience necessary!
URL:https://tipperary.com/event/set-dancing-classes-in-clerihan/2026-06-10/
ATTACH;FMTTYPE=image/jpeg:https://tipperary.com/wp-content/uploads/2026/04/a4267b564eb34f5432c7b93a6b162fcd-1.jpg
END:VEVENT
BEGIN:VEVENT
DTSTART;TZID=UTC:20260617T080000
DTEND;TZID=UTC:20260617T170000
DTSTAMP:20260417T173445
CREATED:20260413T140818Z
LAST-MODIFIED:20260413T140818Z
UID:10001022-1781683200-1781715600@tipperary.com
SUMMARY:Set Dancing Classes in Clerihan
DESCRIPTION:Set Dancing Classes\, will take place very Wednesday at 7:15 pm\, in Clerihan Community Hall. It is €10 per class. Turn up on the night\, no experience necessary!
URL:https://tipperary.com/event/set-dancing-classes-in-clerihan/2026-06-17/
ATTACH;FMTTYPE=image/jpeg:https://tipperary.com/wp-content/uploads/2026/04/a4267b564eb34f5432c7b93a6b162fcd-1.jpg
END:VEVENT
BEGIN:VEVENT
DTSTART;TZID=UTC:20260624T080000
DTEND;TZID=UTC:20260624T170000
DTSTAMP:20260417T173445
CREATED:20260413T140818Z
LAST-MODIFIED:20260413T140818Z
UID:10001023-1782288000-1782320400@tipperary.com
SUMMARY:Set Dancing Classes in Clerihan
DESCRIPTION:Set Dancing Classes\, will take place very Wednesday at 7:15 pm\, in Clerihan Community Hall. It is €10 per class. Turn up on the night\, no experience necessary!
URL:https://tipperary.com/event/set-dancing-classes-in-clerihan/2026-06-24/
ATTACH;FMTTYPE=image/jpeg:https://tipperary.com/wp-content/uploads/2026/04/a4267b564eb34f5432c7b93a6b162fcd-1.jpg
END:VEVENT
BEGIN:VEVENT
DTSTART;TZID=UTC:20260701T080000
DTEND;TZID=UTC:20260701T170000
DTSTAMP:20260417T173445
CREATED:20260413T140818Z
LAST-MODIFIED:20260413T140818Z
UID:10001024-1782892800-1782925200@tipperary.com
SUMMARY:Set Dancing Classes in Clerihan
DESCRIPTION:Set Dancing Classes\, will take place very Wednesday at 7:15 pm\, in Clerihan Community Hall. It is €10 per class. Turn up on the night\, no experience necessary!
URL:https://tipperary.com/event/set-dancing-classes-in-clerihan/2026-07-01/
ATTACH;FMTTYPE=image/jpeg:https://tipperary.com/wp-content/uploads/2026/04/a4267b564eb34f5432c7b93a6b162fcd-1.jpg
END:VEVENT
BEGIN:VEVENT
DTSTART;TZID=UTC:20260708T080000
DTEND;TZID=UTC:20260708T170000
DTSTAMP:20260417T173445
CREATED:20260413T140818Z
LAST-MODIFIED:20260413T140818Z
UID:10001025-1783497600-1783530000@tipperary.com
SUMMARY:Set Dancing Classes in Clerihan
DESCRIPTION:Set Dancing Classes\, will take place very Wednesday at 7:15 pm\, in Clerihan Community Hall. It is €10 per class. Turn up on the night\, no experience necessary!
URL:https://tipperary.com/event/set-dancing-classes-in-clerihan/2026-07-08/
ATTACH;FMTTYPE=image/jpeg:https://tipperary.com/wp-content/uploads/2026/04/a4267b564eb34f5432c7b93a6b162fcd-1.jpg
END:VEVENT
BEGIN:VEVENT
DTSTART;TZID=UTC:20260715T080000
DTEND;TZID=UTC:20260715T170000
DTSTAMP:20260417T173445
CREATED:20260413T140818Z
LAST-MODIFIED:20260413T140818Z
UID:10001026-1784102400-1784134800@tipperary.com
SUMMARY:Set Dancing Classes in Clerihan
DESCRIPTION:Set Dancing Classes\, will take place very Wednesday at 7:15 pm\, in Clerihan Community Hall. It is €10 per class. Turn up on the night\, no experience necessary!
URL:https://tipperary.com/event/set-dancing-classes-in-clerihan/2026-07-15/
ATTACH;FMTTYPE=image/jpeg:https://tipperary.com/wp-content/uploads/2026/04/a4267b564eb34f5432c7b93a6b162fcd-1.jpg
END:VEVENT
BEGIN:VEVENT
DTSTART;TZID=UTC:20260722T080000
DTEND;TZID=UTC:20260722T170000
DTSTAMP:20260417T173445
CREATED:20260413T140818Z
LAST-MODIFIED:20260413T140818Z
UID:10001027-1784707200-1784739600@tipperary.com
SUMMARY:Set Dancing Classes in Clerihan
DESCRIPTION:Set Dancing Classes\, will take place very Wednesday at 7:15 pm\, in Clerihan Community Hall. It is €10 per class. Turn up on the night\, no experience necessary!
URL:https://tipperary.com/event/set-dancing-classes-in-clerihan/2026-07-22/
ATTACH;FMTTYPE=image/jpeg:https://tipperary.com/wp-content/uploads/2026/04/a4267b564eb34f5432c7b93a6b162fcd-1.jpg
END:VEVENT
BEGIN:VEVENT
DTSTART;TZID=UTC:20260729T080000
DTEND;TZID=UTC:20260729T170000
DTSTAMP:20260417T173445
CREATED:20260413T140818Z
LAST-MODIFIED:20260413T140818Z
UID:10001028-1785312000-1785344400@tipperary.com
SUMMARY:Set Dancing Classes in Clerihan
DESCRIPTION:Set Dancing Classes\, will take place very Wednesday at 7:15 pm\, in Clerihan Community Hall. It is €10 per class. Turn up on the night\, no experience necessary!
URL:https://tipperary.com/event/set-dancing-classes-in-clerihan/2026-07-29/
ATTACH;FMTTYPE=image/jpeg:https://tipperary.com/wp-content/uploads/2026/04/a4267b564eb34f5432c7b93a6b162fcd-1.jpg
END:VEVENT
BEGIN:VEVENT
DTSTART;TZID=UTC:20260805T080000
DTEND;TZID=UTC:20260805T170000
DTSTAMP:20260417T173445
CREATED:20260413T140818Z
LAST-MODIFIED:20260413T140818Z
UID:10001029-1785916800-1785949200@tipperary.com
SUMMARY:Set Dancing Classes in Clerihan
DESCRIPTION:Set Dancing Classes\, will take place very Wednesday at 7:15 pm\, in Clerihan Community Hall. It is €10 per class. Turn up on the night\, no experience necessary!
URL:https://tipperary.com/event/set-dancing-classes-in-clerihan/2026-08-05/
ATTACH;FMTTYPE=image/jpeg:https://tipperary.com/wp-content/uploads/2026/04/a4267b564eb34f5432c7b93a6b162fcd-1.jpg
END:VEVENT
BEGIN:VEVENT
DTSTART;TZID=UTC:20260812T080000
DTEND;TZID=UTC:20260812T170000
DTSTAMP:20260417T173445
CREATED:20260413T140818Z
LAST-MODIFIED:20260413T140818Z
UID:10001030-1786521600-1786554000@tipperary.com
SUMMARY:Set Dancing Classes in Clerihan
DESCRIPTION:Set Dancing Classes\, will take place very Wednesday at 7:15 pm\, in Clerihan Community Hall. It is €10 per class. Turn up on the night\, no experience necessary!
URL:https://tipperary.com/event/set-dancing-classes-in-clerihan/2026-08-12/
ATTACH;FMTTYPE=image/jpeg:https://tipperary.com/wp-content/uploads/2026/04/a4267b564eb34f5432c7b93a6b162fcd-1.jpg
END:VEVENT
BEGIN:VEVENT
DTSTART;TZID=UTC:20260819T080000
DTEND;TZID=UTC:20260819T170000
DTSTAMP:20260417T173445
CREATED:20260413T140818Z
LAST-MODIFIED:20260413T140818Z
UID:10001031-1787126400-1787158800@tipperary.com
SUMMARY:Set Dancing Classes in Clerihan
DESCRIPTION:Set Dancing Classes\, will take place very Wednesday at 7:15 pm\, in Clerihan Community Hall. It is €10 per class. Turn up on the night\, no experience necessary!
URL:https://tipperary.com/event/set-dancing-classes-in-clerihan/2026-08-19/
ATTACH;FMTTYPE=image/jpeg:https://tipperary.com/wp-content/uploads/2026/04/a4267b564eb34f5432c7b93a6b162fcd-1.jpg
END:VEVENT
BEGIN:VEVENT
DTSTART;TZID=UTC:20260826T080000
DTEND;TZID=UTC:20260826T170000
DTSTAMP:20260417T173445
CREATED:20260413T140818Z
LAST-MODIFIED:20260413T140818Z
UID:10001032-1787731200-1787763600@tipperary.com
SUMMARY:Set Dancing Classes in Clerihan
DESCRIPTION:Set Dancing Classes\, will take place very Wednesday at 7:15 pm\, in Clerihan Community Hall. It is €10 per class. Turn up on the night\, no experience necessary!
URL:https://tipperary.com/event/set-dancing-classes-in-clerihan/2026-08-26/
ATTACH;FMTTYPE=image/jpeg:https://tipperary.com/wp-content/uploads/2026/04/a4267b564eb34f5432c7b93a6b162fcd-1.jpg
END:VEVENT
BEGIN:VEVENT
DTSTART;TZID=UTC:20260902T080000
DTEND;TZID=UTC:20260902T170000
DTSTAMP:20260417T173445
CREATED:20260413T140818Z
LAST-MODIFIED:20260413T140818Z
UID:10001033-1788336000-1788368400@tipperary.com
SUMMARY:Set Dancing Classes in Clerihan
DESCRIPTION:Set Dancing Classes\, will take place very Wednesday at 7:15 pm\, in Clerihan Community Hall. It is €10 per class. Turn up on the night\, no experience necessary!
URL:https://tipperary.com/event/set-dancing-classes-in-clerihan/2026-09-02/
ATTACH;FMTTYPE=image/jpeg:https://tipperary.com/wp-content/uploads/2026/04/a4267b564eb34f5432c7b93a6b162fcd-1.jpg
END:VEVENT
BEGIN:VEVENT
DTSTART;TZID=UTC:20260909T080000
DTEND;TZID=UTC:20260909T170000
DTSTAMP:20260417T173445
CREATED:20260413T140818Z
LAST-MODIFIED:20260413T140818Z
UID:10001034-1788940800-1788973200@tipperary.com
SUMMARY:Set Dancing Classes in Clerihan
DESCRIPTION:Set Dancing Classes\, will take place very Wednesday at 7:15 pm\, in Clerihan Community Hall. It is €10 per class. Turn up on the night\, no experience necessary!
URL:https://tipperary.com/event/set-dancing-classes-in-clerihan/2026-09-09/
ATTACH;FMTTYPE=image/jpeg:https://tipperary.com/wp-content/uploads/2026/04/a4267b564eb34f5432c7b93a6b162fcd-1.jpg
END:VEVENT
BEGIN:VEVENT
DTSTART;TZID=UTC:20260916T080000
DTEND;TZID=UTC:20260916T170000
DTSTAMP:20260417T173445
CREATED:20260413T140818Z
LAST-MODIFIED:20260413T140818Z
UID:10001035-1789545600-1789578000@tipperary.com
SUMMARY:Set Dancing Classes in Clerihan
DESCRIPTION:Set Dancing Classes\, will take place very Wednesday at 7:15 pm\, in Clerihan Community Hall. It is €10 per class. Turn up on the night\, no experience necessary!
URL:https://tipperary.com/event/set-dancing-classes-in-clerihan/2026-09-16/
ATTACH;FMTTYPE=image/jpeg:https://tipperary.com/wp-content/uploads/2026/04/a4267b564eb34f5432c7b93a6b162fcd-1.jpg
END:VEVENT
BEGIN:VEVENT
DTSTART;TZID=UTC:20260923T080000
DTEND;TZID=UTC:20260923T170000
DTSTAMP:20260417T173445
CREATED:20260413T140818Z
LAST-MODIFIED:20260413T140818Z
UID:10001036-1790150400-1790182800@tipperary.com
SUMMARY:Set Dancing Classes in Clerihan
DESCRIPTION:Set Dancing Classes\, will take place very Wednesday at 7:15 pm\, in Clerihan Community Hall. It is €10 per class. Turn up on the night\, no experience necessary!
URL:https://tipperary.com/event/set-dancing-classes-in-clerihan/2026-09-23/
ATTACH;FMTTYPE=image/jpeg:https://tipperary.com/wp-content/uploads/2026/04/a4267b564eb34f5432c7b93a6b162fcd-1.jpg
END:VEVENT
BEGIN:VEVENT
DTSTART;TZID=UTC:20260930T080000
DTEND;TZID=UTC:20260930T170000
DTSTAMP:20260417T173445
CREATED:20260413T140818Z
LAST-MODIFIED:20260413T140818Z
UID:10001037-1790755200-1790787600@tipperary.com
SUMMARY:Set Dancing Classes in Clerihan
DESCRIPTION:Set Dancing Classes\, will take place very Wednesday at 7:15 pm\, in Clerihan Community Hall. It is €10 per class. Turn up on the night\, no experience necessary!
URL:https://tipperary.com/event/set-dancing-classes-in-clerihan/2026-09-30/
ATTACH;FMTTYPE=image/jpeg:https://tipperary.com/wp-content/uploads/2026/04/a4267b564eb34f5432c7b93a6b162fcd-1.jpg
END:VEVENT
BEGIN:VEVENT
DTSTART;TZID=UTC:20261007T080000
DTEND;TZID=UTC:20261007T170000
DTSTAMP:20260417T173445
CREATED:20260413T140818Z
LAST-MODIFIED:20260413T140818Z
UID:10001038-1791360000-1791392400@tipperary.com
SUMMARY:Set Dancing Classes in Clerihan
DESCRIPTION:Set Dancing Classes\, will take place very Wednesday at 7:15 pm\, in Clerihan Community Hall. It is €10 per class. Turn up on the night\, no experience necessary!
URL:https://tipperary.com/event/set-dancing-classes-in-clerihan/2026-10-07/
ATTACH;FMTTYPE=image/jpeg:https://tipperary.com/wp-content/uploads/2026/04/a4267b564eb34f5432c7b93a6b162fcd-1.jpg
END:VEVENT
BEGIN:VEVENT
DTSTART;TZID=UTC:20261014T080000
DTEND;TZID=UTC:20261014T170000
DTSTAMP:20260417T173445
CREATED:20260413T140818Z
LAST-MODIFIED:20260413T140818Z
UID:10001039-1791964800-1791997200@tipperary.com
SUMMARY:Set Dancing Classes in Clerihan
DESCRIPTION:Set Dancing Classes\, will take place very Wednesday at 7:15 pm\, in Clerihan Community Hall. It is €10 per class. Turn up on the night\, no experience necessary!
URL:https://tipperary.com/event/set-dancing-classes-in-clerihan/2026-10-14/
ATTACH;FMTTYPE=image/jpeg:https://tipperary.com/wp-content/uploads/2026/04/a4267b564eb34f5432c7b93a6b162fcd-1.jpg
END:VEVENT
BEGIN:VEVENT
DTSTART;TZID=UTC:20261021T080000
DTEND;TZID=UTC:20261021T170000
DTSTAMP:20260417T173445
CREATED:20260413T140818Z
LAST-MODIFIED:20260413T140818Z
UID:10001040-1792569600-1792602000@tipperary.com
SUMMARY:Set Dancing Classes in Clerihan
DESCRIPTION:Set Dancing Classes\, will take place very Wednesday at 7:15 pm\, in Clerihan Community Hall. It is €10 per class. Turn up on the night\, no experience necessary!
URL:https://tipperary.com/event/set-dancing-classes-in-clerihan/2026-10-21/
ATTACH;FMTTYPE=image/jpeg:https://tipperary.com/wp-content/uploads/2026/04/a4267b564eb34f5432c7b93a6b162fcd-1.jpg
END:VEVENT
BEGIN:VEVENT
DTSTART;TZID=UTC:20261028T080000
DTEND;TZID=UTC:20261028T170000
DTSTAMP:20260417T173445
CREATED:20260413T140818Z
LAST-MODIFIED:20260413T140818Z
UID:10001041-1793174400-1793206800@tipperary.com
SUMMARY:Set Dancing Classes in Clerihan
DESCRIPTION:Set Dancing Classes\, will take place very Wednesday at 7:15 pm\, in Clerihan Community Hall. It is €10 per class. Turn up on the night\, no experience necessary!
URL:https://tipperary.com/event/set-dancing-classes-in-clerihan/2026-10-28/
ATTACH;FMTTYPE=image/jpeg:https://tipperary.com/wp-content/uploads/2026/04/a4267b564eb34f5432c7b93a6b162fcd-1.jpg
END:VEVENT
BEGIN:VEVENT
DTSTART;TZID=UTC:20261104T080000
DTEND;TZID=UTC:20261104T170000
DTSTAMP:20260417T173445
CREATED:20260413T140818Z
LAST-MODIFIED:20260413T140818Z
UID:10001042-1793779200-1793811600@tipperary.com
SUMMARY:Set Dancing Classes in Clerihan
DESCRIPTION:Set Dancing Classes\, will take place very Wednesday at 7:15 pm\, in Clerihan Community Hall. It is €10 per class. Turn up on the night\, no experience necessary!
URL:https://tipperary.com/event/set-dancing-classes-in-clerihan/2026-11-04/
ATTACH;FMTTYPE=image/jpeg:https://tipperary.com/wp-content/uploads/2026/04/a4267b564eb34f5432c7b93a6b162fcd-1.jpg
END:VEVENT
BEGIN:VEVENT
DTSTART;TZID=UTC:20261111T080000
DTEND;TZID=UTC:20261111T170000
DTSTAMP:20260417T173445
CREATED:20260413T140818Z
LAST-MODIFIED:20260413T140818Z
UID:10001043-1794384000-1794416400@tipperary.com
SUMMARY:Set Dancing Classes in Clerihan
DESCRIPTION:Set Dancing Classes\, will take place very Wednesday at 7:15 pm\, in Clerihan Community Hall. It is €10 per class. Turn up on the night\, no experience necessary!
URL:https://tipperary.com/event/set-dancing-classes-in-clerihan/2026-11-11/
ATTACH;FMTTYPE=image/jpeg:https://tipperary.com/wp-content/uploads/2026/04/a4267b564eb34f5432c7b93a6b162fcd-1.jpg
END:VEVENT
END:VCALENDAR